View In:
ArcGIS JavaScript
ArcGIS Online Map Viewer
ArcGIS Earth
ArcMap
ArcGIS Pro
View Footprint In:
ArcGIS Online Map Viewer
Service Description: d
Map Name: Layers
Legend
All Layers and Tables
Dynamic Legend
Dynamic All Layers
Layers:
Description: d
Copyright Text:
Spatial Reference:
102630
(102630)
Single Fused Map Cache: true
Tile Info:
- Height: 256
- Width: 256
- DPI: 96
-
Levels of Detail: 24
-
Level ID: 0
[ Start Tile, End Tile ]
- Resolution: 256348.37211175586
- Scale: 2.9531391530057335E8
-
Level ID: 1
[ Start Tile, End Tile ]
- Resolution: 128174.18605587793
- Scale: 1.4765695765028667E8
-
Level ID: 2
[ Start Tile, End Tile ]
- Resolution: 64087.093027938965
- Scale: 7.382847882514334E7
-
Level ID: 3
[ Start Tile, End Tile ]
- Resolution: 32043.546513969482
- Scale: 3.691423941257167E7
-
Level ID: 4
[ Start Tile, End Tile ]
- Resolution: 16021.773256984741
- Scale: 1.8457119706285834E7
-
Level ID: 5
[ Start Tile, End Tile ]
- Resolution: 8010.886628492371
- Scale: 9228559.853142917
-
Level ID: 6
[ Start Tile, End Tile ]
- Resolution: 4005.4433142461853
- Scale: 4614279.926571459
-
Level ID: 7
[ Start Tile, End Tile ]
- Resolution: 2002.7216571230927
- Scale: 2307139.9632857293
-
Level ID: 8
[ Start Tile, End Tile ]
- Resolution: 1001.3608285615463
- Scale: 1153569.9816428646
-
Level ID: 9
[ Start Tile, End Tile ]
- Resolution: 500.68041428077316
- Scale: 576784.9908214323
-
Level ID: 10
[ Start Tile, End Tile ]
- Resolution: 250.34020714038658
- Scale: 288392.49541071616
-
Level ID: 11
[ Start Tile, End Tile ]
- Resolution: 125.17010357019329
- Scale: 144196.24770535808
-
Level ID: 12
[ Start Tile, End Tile ]
- Resolution: 62.585051785096645
- Scale: 72098.12385267904
-
Level ID: 13
[ Start Tile, End Tile ]
- Resolution: 31.292525892548323
- Scale: 36049.06192633952
-
Level ID: 14
[ Start Tile, End Tile ]
- Resolution: 15.646262946274161
- Scale: 18024.53096316976
-
Level ID: 15
[ Start Tile, End Tile ]
- Resolution: 7.823131473137081
- Scale: 9012.26548158488
-
Level ID: 16
[ Start Tile, End Tile ]
- Resolution: 3.9115657365685403
- Scale: 4506.13274079244
-
Level ID: 17
[ Start Tile, End Tile ]
- Resolution: 1.9557828682842702
- Scale: 2253.06637039622
-
Level ID: 18
[ Start Tile, End Tile ]
- Resolution: 0.9778914341421351
- Scale: 1126.53318519811
-
Level ID: 19
[ Start Tile, End Tile ]
- Resolution: 0.48894571707106754
- Scale: 563.266592599055
-
Level ID: 20
[ Start Tile, End Tile ]
- Resolution: 0.24447285853553377
- Scale: 281.6332962995275
-
Level ID: 21
[ Start Tile, End Tile ]
- Resolution: 0.12223642926776689
- Scale: 140.81664814976375
-
Level ID: 22
[ Start Tile, End Tile ]
- Resolution: 0.06111821463388344
- Scale: 70.40832407488188
-
Level ID: 23
[ Start Tile, End Tile ]
- Resolution: 0.03055910731694172
- Scale: 35.20416203744094
- Format: PNG
- Compression Quality: 0.0
- Origin: X: -3.0844091630304754E7
Y: 2.192057910678862E7
- Spatial Reference: 102630
(102630)
Initial Extent:
XMin: 1762390.6042411495
YMin: 621062.4900622923
XMax: 2542537.6796061546
YMax: 1080262.9837897955
Spatial Reference: 102630
(102630)
Full Extent:
XMin: 1935708.1172052044
YMin: 720701.6402279511
XMax: 2210228.167738596
YMax: 996835.5674137548
Spatial Reference: 102630
(102630)
Units: esriFeet
Supported Image Format Types: PNG32,PNG24,PNG,JPG,DIB,TIFF,EMF,PS,PDF,GIF,SVG,SVGZ,BMP
Document Info:
Title: Dallas11202025.aprx
Author:
Comments: d
Subject: d
Category:
Keywords: Dallas11202025
AntialiasingMode: None
TextAntialiasingMode: Force
Supports Dynamic Layers: true
MaxRecordCount: 2000
MaxImageHeight: 4096
MaxImageWidth: 4096
Supported Query Formats: JSON, geoJSON, PBF
Supports Query Data Elements: true
Min Scale: 576784.9908214323
Max Scale: 563.266592599055
Min LOD: 9
Max LOD: 19
Supports Datum Transformation: true
Child Resources:
Info
Dynamic Layer
Supported Operations:
Export Map
Identify
QueryDomains
QueryLegends
Find
Return Updates